Workbook
Name _5_2530_00_0000: #REF!
Name ACT: #REF!
Name Actual_Amt: INDIRECT(#REF!)
Name Actual_Month: INDIRECT(#REF!)
Name AllOwnDesign: #REF!
Name AllPSC: #REF!
Name AllTarget: #REF!
Name Anchor: #REF!
Name applicant: OFFSET(#REF!,0,0,COUNTA(#REF!)-1,1)
Name Area: #REF!
Name asd: #REF!
Name Asset_Category_NSW: OFFSET(#REF!,0,0,COUNTA(#REF!)-1,1)
Name Asset_Sub_Category_NSW: OFFSET(#REF!,0,0,COUNTA(#REF!)-1,1)
Name AssetCat: #REF!
Name assettype: OFFSET(#REF!,0,0,COUNTA(#REF!)-1,1)
Name AssumedAmountRange: INDIRECT(#REF!)
Name AssumedDateRange: INDIRECT(#REF!)
Name BDays: #REF!
Name bereich: #REF!
Name BlankList: Index!$H$14
Name BRA: #REF!
Name brc: #REF!
Name BRCC: #REF!
Name BRCDI: #REF!
Name brcl: #REF!
Name BRD: #REF!
Name BRL: #REF!
Name BROC: #REF!
Name BROD: #REF!
Name BRODR: #REF!
Name burnratedesign: #REF!
Name BWIC: #REF!
Name Category: #REF!
Name Condition: #REF!
Name ConsCategory: #REF!
Name Consequences: #REF!
Name Contract_Delivery_Type: #REF!
Name Contracts: #REF!
Name Control: #REF!
Name costmethodology: OFFSET(#REF!,0,0,COUNTA(#REF!)-1,1)
Name Councils: #REF!
Name councilsloc: #REF!
Name COwnDesign: #REF!
Name Curr_month: #REF!
Name CurrentActual: #REF!
Name CurrentActualPC: #REF!
Name DC_MARKUP_2: #REF!
Name Delay1: #REF!
Name Delay2: #REF!
Name DESC_LIST: OFFSET(#REF!,0,0,COUNTA(#REF!) - 1,1)
Name Disp_Per_Prog_Data: #REF!
Name Disp_Prog_Data: #REF!
Name Distribution_Type: #REF!
Name Disz: #REF!
Name disziplin: #REF!
Name DrwgType: #REF!
Name DynamicList: IF(INDEX(#REF!,ROW())="Yes", YesOptions, IF(INDEX(#REF!,ROW())="No", NoOptions, IF(INDEX(#REF!,ROW())="RFI", RFIOptions, "")))
Name END: #REF!
Name EOwnDel: #REF!
Name EPAFunction: #REF!

Sheet How to..
A1: How to fill out the Template Sheet
A3: Summary Tab
A4: 1 | B4: The dashboard is intended to assist the assessor with summarising the details for each claim and ensuring appropriate outcomes are reflected
A5: =A4+1 | B5: Cells identified by this colour are autofill based on the selections or values within form 1 & 2
A6: =A5+1 | B6: The assessor is to note any overall commentary relating the assessment that may be useful for reference by NSWRA or the Applicant to improve future funding requests.
A8: Form 1 Tab
A9: =A6+1 | B9: This tab in intended to capture information submitted by the applicant that is required in order to satisfy the minimum requirements of the states response to the Commonwealth Disaster Recovery Funding Arrangements (DRFA), NSW Disaster Recovery Assistance Guidelines and management system controls related to Reconstruction of Essential Public Asset (EPAR) claims
A10: =A9+1 | B10: The user is required input values as derived from OneGMS outputs in any cell indicated by this colour
A11: =A10+1 | B11: Cells identified by this colour are cell titles or autofill based on the data provided. No action is required from the user for these cells
A13: Form 2 Tab
A14: =A11+1 | B14: This tab in intended to capture information provided and confirme by the assessor in accordance with the states DRFA management system controls related to Reconstruction of Essential Public Asset (EPAR) claims.
A15: =A14+1 | B15: Cells identified by this colour are autofill from Form 1 for comparison and may be edited to correct or align records accurately.
A16: =A15+1 | B16: Cells identified by this colour are cell titles or autofill based on the data provided. No action is required from the user for these cells
A17: =A16+1 | B17: Cells identified by this colour are for assessor to select from the drop downs
A18: =A17+1 | B18: Cells identified by this colour are for the assessor to input values
A19: 11 | B19: Cells indentified by this colour indicate the assessor cannot confirm the control requirements
A20: 12 | B20: Cells identified by this colour indicate an input is required either by dropdown or free text in relation to the preceding cell
A21: 13 | B21: Cells identified by this colour are for the assessor to revisit prior to finalisation of the assessment
A23: Explanatory notes
A24: =A21+1 | B24: This file must be saved and uploaded to OneGMS
A25: =A24+1 | B25: All reference files used in the assessment must be uploaded to OneGMS
A26: =A25+1 | B26: Certification of this assessment is via OneGMS
A27: =A26+1 | B27: not used
A28: =A27+1 | B28: not used
A29: Column U | B29: Evidence Validation Record: is the file or reference document that identifies the assurance checks performed on location data. This will need to be uploaded to OneGMS
A30: Column P | B30: Supporting Information: list the evidence that was not considered eligible for assessment. This may have been included in columns Q and/or T
A31: Column BL | B31: Comments: use this cell to note any information relevant to the assessment of the relevant line item related to scope, cost or evidence you think provides context for your assessment
A33: For queries or comments relating to the assessment process please contact:
B34: Name
B35: Contact information

Sheet Summary
B1: Assessment Summary
B3: Submission details
B4: Applicant | C4: ='Form 1'!D4
B5: Submission Type | C5: Essential Public Asset Reconstruction
B6: Submission number | C6: ='Form 1'!D10
B7: AGRN | C7: ='Form 1'!D5
B8: Event | C8: ='Form 1'!D6
B9: Event end date | C9: =IF('Form 1'!D8<>"", 'Form 1'!D8, IF('Form 1'!D7<>"", 'Form 1'!D7, "requires date"))
B11: Claim application date | C11: ='Form 1'!D9
B12: Council Ref | C12: ='Form 1'!D11
B13: Project Name | C13: ='Form 1'!D12
B14: ='Form 1'!C10 | C14: ='Form 1'!D10
B16: Submission Request
B17: Total Submitted value ($) | C17: ='Form 1'!H4
B18: Total Assets | C18: 3
B19: Total Damage Items | C19: 3
B21: Assessment Outcome
B22: TotalEligible value ($) | C22: ='Form 2'!H12
B23: Total Direct ($) | C23: ='Form 2'!AX70
B24: Total Indirect ($) | C24: ='Form 2'!BB70
B25: Total Eligible Assets | C25: 3
B26: Total Eligible Damage Items | C26: 3
B27: Total Ineligible value ($) | C27: ='Form 2'!H13
B29: Assessor comments

Sheet Form 1
C2: Essential Public Asset Reconstruction Works (EPAR) FY 25/26
C3: OneGMS Application for Estimated reconstruction costs
C4: Applicant Organisation: | D4: Nambucca Valley Council | G4: Total Submitted ERC value: | H4: 0
C5: AGRN #: | D5: AGRN 1212 | G5: Total Line items | H5: 3
C6: Event name: | D6: NSW Severe Weather and Flooding: 22/05/2025
C7: Event Start Date: | D7: 2025-05-22
C8: Event End Date: | D8: 2025-05-22
C9: Submitted on: | D9: 14 May 2026, 7:45AM AEST
C10: OneGMS Ref #: | D10: EP12120000233
C11: Council Ref #: | D11: 31251 - Essential Public Ass
C12: Project Name: | D12: 31251 - Essential Public Ass
C13: Opt out Council for Day Labour
C15: Category | E15: Damaged asset identification | I15: Damaged asset location and/or segment | O15: Asset's pre-disaster function (Essential Public Asset Function Framework, section 4.2) | T15: Damage assessment | W15: Restoration treatment details | AE15: Estimated reconstruction costs
B16: Ref#: | C16: 1 | D16: 2 | E16: 3 | F16: 4a | G16: 4b | H16: 5 | I16: 6 | J16: 7a | K16: 7b | L16: 8a | M16: 8b | N16: 9 | O16: 10 | P16: 11 | Q16: 12 | R16: 13 | S16: 14 | T16: 15 | U16: 16 | V16: 17 | W16: 18 | X16: 19 | Y16: 20 | Z16: 21 | AA16: 22 | AB16: 23 | AC16: 24 | AD16: 25 | AE16: 26 | AF16: 27 | AG16: 28 | AH16: 29 | AI16: 30 | AJ16: 31
H17: Chainage (km) | J17: Lat/long | V17: RECONSTRUCTION TREATMENT | W17: MEASUREMENTS | AA17: QUANTITY | AB17: UNIT OF MEASURE | AC17: UNIT RATE $ | AD17: METHODOLOGY | AE17: ESTIMATE DOCUMENTS | AF17: ESTIMATED RECONSTRUCTION COST | AH17: INSURANCE | AJ17: COMMENTS
C18: Asset category / class | D18: Damage/Item No. | E18: Asset ID | F18: Asset Name | G18: Date asset accessible | H18: From | I18: To | J18: Start of damage latitude | K18: Start of damage longitude | L18: End of damage latitude | M18: End of damage longitude | N18: Asset sub-category / type | O18: Asset capacity | P18: Asset layout / dimensions | Q18: Asset material | R18: Support Documentation (includes any information outside the ATL or cannot be validated) | S18: Pre-disaster evidence (information relied upon for the pre-condition/function within the ATL) | T18: Damage evidence (information relied upon to depict damage within the ATL) | U18: Damage description/impact | V18: Selected from the dropdown list | W18: Length (m) | X18: Width (m) | Y18: Depth/Thickness (m) | Z18: Item/other | AE18: Reference to detailed estimate document (e.g.reference file name) | AF18: Total value indicated from application for each damage item | AH18: Is any of the damage covered by insurance? | AI18: if yes, provide more details (eg. $xx,xxx coverage, TBD by insurer) | AJ18: Applicant notes/remarks
B19: 1 | C19: Transport | D19: DM06870 | E19: DM06870 | F19: Williams Hill Road CH5.3km | G19: 2025-05-22 | N19: Road Infrastructure | AF19: 863965.59
B20: 2 | C20: Transport | D20: DM02739 | E20: DM02739 | F20: South Arm Road CH14.3km | G20: 2025-05-22 | N20: Road Infrastructure | AF20: 2035754.7
B21: 3 | C21: Transport | D21: DM02678 | E21: DM02678 | F21: Gumma Road CH1.4km | G21: 2025-05-22 | N21: Road Infrastructure | AF21: 1356219.8
B22: 4
B23: 5
B24: 6
B25: 7
B26: 8
B27: 9
B28: 10
B29: 11
B30: 12
B31: 13
B32: 14
B33: 15
... B68: 50
AE70: Total Submitted ERC Value: | AF70: =SUM(AF19:AF68)

Sheet Form 2
C2: Essential Public Asset Reconstruction Works (EPAR) FY25/26
C3: OneGMS Application for Estimated reconstruction costs
C4: Applicant Organisation: | D4: =IF('Form 1'!D4="","",'Form 1'!D4) | G4: Event ATL (EPAR)
C5: AGRN #: | D5: =IF('Form 1'!D5="","",'Form 1'!D5) | G5: Pre-event | H5: =DATE(YEAR(D7)-4, MONTH(D7), DAY(D7)) | J5: Assessor Details
C6: Event name: | D6: =IF('Form 1'!D6="","",'Form 1'!D6) | G6: Post Event | H6: =EDATE(IF(D8<>"", D8, D7), 12) | J6: Name
C7: Event Start Date: | D7: =IF('Form 1'!D7="","",'Form 1'!D7)
C8: Event End Date: | D8: =IF('Form 1'!D8="","",'Form 1'!D8) | G8: Assessment
C9: Submitted on: | D9: =IF('Form 1'!D9="","",'Form 1'!D9) | G9: Assessment Start date | J9: Yes
C10: OneGMS Ref #: | D10: =IF('Form 1'!D10="","",'Form 1'!D10) | G10: Assessment End Date | J10: Yes
C11: Council Ref #: | D11: =IF('Form 1'!D11="","",'Form 1'!D11) | G11: Assessment Duration | H11: =NETWORKDAYS(H9,H10) & " days"
C12: Project Name: | D12: =IF('Form 1'!D12="","",'Form 1'!D12) | G12: Total Eligible ERC value | H12: =BG70
C13: Opt out Council for Day Labour | D13: =IF('Form 1'!D13="","",'Form 1'!D13) | G13: Total Ineligible ERC value | H13: ='Form 1'!H4-'Form 2'!H12
D15: Damaged asset identification | I15: Damaged asset location and/or segment | O15: Damage assessment | AA15: Asset's pre-disaster function (Essential Public Asset Function Framework, section 4.2) | AH15: Restoration treatment details | AR15: Estimated Reconstruction Costs
C16: Ref#: | D16: 2 | E16: 3 | F16: 4a | G16: D1/D2 | I16: 5 | J16: 6 | K16: 7a | L16: 7b | M16: 8a | N16: 8b | O16: 4b | P16: 13 | Q16: 14 | R16: D3/D4/D5 | T16: 15 | U16: D3/D4/D5 | X16: 16 | Y16: D3 | AA16: 1 | AB16: 9 | AC16: 10 | AD16: 11 | AE16: 12 | AF16: C1 | AG16: C2 | AH16: 17 | AI16: 18 | AK16: 19 | AM16: 20 | AO16: 21 | AQ16: 22 | AS16: 23 | AT16: 24 | AU16: 25 | AW16: 26 | AX16: C3 | BC16: C4 | BF16: 27 | BH16: 29 | BI16: C3 | BK16: 31
G17: ASSESSMENT | H17: Comment | I17: Chainage (km) | K17: Lat/long | S17: ASSESSMENT | V17: ASSESSMENT | Y17: ASSESSMENT | AF17: ASSESSMENT | AG17: ASSESSMENT | AH17: RECONSTRUCTION TREATMENT | AI17: MEASUREMENTS | AQ17: QUANTITY | AS17: UNIT OF MEASURE | AT17: UNIT RATE $ | AU17: METHODOLOGY | AW17: ESTIMATE DOCUMENTS | AX17: ELIGIBLE DIRECT COST | AY17: PM | AZ17: CONTINGENCY | BA17: ESCALATION | BB17: ELIGIBLE INDIRECT COST | BC17: ASSESSMENT- MARKET PRICE ONLY | BF17: SUBMITTED ERC | BG17: ELIGIBLE ERC | BH17: INSURANCE | BI17: ASSESSMENT | BK17: COMMENTS | BL17: ASSESSMENT
C18: Line | D18: Damage/Item No. | E18: Asset ID | F18: Asset Name | G18: have you verified the location and that this is an Essential Public Asset? | H18: how did you verify this? | I18: From | J18: To | K18: Start of damage latitude | L18: Start of damage longitude | M18: End of damage latitude | N18: End of damage longitude | O18: Date asset accessible | P18: Support Documentation (includes any information outside the ATL or cannot be validated) | Q18: Pre-disaster evidence (information relied upon for the pre-condition/function within the ATL) | R18: Additional evidence information sourced by the assessor to support the determination of eligible scope | S18: All evidence relied upon and noted in Column Q is within ATL and validated | T18: Damage evidence (information relied upon to depict damage within the ATL) | U18: Additional evidence information sourced by the assessor to support the determination of eligible scope | V18: All evidence relied upon and noted in Column T is within ATL and validated | W18: Evidence Validation Record | X18: Damage description or impact | Y18: The damage is confirmed to have been a result of the eligible event | Z18: Reason for decision | AA18: Asset category / class | AB18: Asset sub-category / type | AC18: Asset capacity | AD18: Asset layout / dimensions | AE18: Asset material | AF18: Following Reconstruction the asset would provide the same pre-event function and asset classification | AG18: Have you established the asset classification | AH18: Assessor to confirm eligible treatment | AI18: Submitted Length (m) | AJ18: Length (m) | AK18: Submitted Width (m) | AL18: Width (m) | AM18: Submitted Depth/Thickness (m) | AN18: Depth/Thickness (m) | AO18: Submitted Item/other | AP18: Item/other | AQ18: Submitted Quantity | AR18: Eligible | AU18: Submitted methodology | AV18: Assessed Methodology | AW18: Assessor to note the file(s) references for document used to validate/justify the estimate | BC18: appropriate tender conditions | BD18: adjustments complete (if any) | BE18: was benchmark information relied upon | BF18: Total value submitted for each damage item | BG18: Total value assessed as Eligible for each damage item | BH18: Value of any insurance coverage if known? if unknown note yes. If no insurance available mark 'NA" | BI18: Costs are developed in accordance with the DRFA | BJ18: Record of cost validation | BK18: Applicant notes/remarks | BL18: Assessor notes/remarks
C19: 1 | D19: DM06870 | E19: DM06870 | F19: Williams Hill Road CH5.3km | G19: Yes | H19: DM06870: geospatial lat/long verified against NSW Spatial Services aerial layer; chainage n/a confirmed on Council asset register; damage photos in Assessment Folder / DM06870 / 02. Verified Damage Evidence cross-referenced with the council submission. | I19: n/a | J19: n/a | K19: n/a | L19: n/a | M19: n/a | N19: n/a | O19: 2025-05-22 | P19: Assessment Folder / DM06870 / SmartyGrants application package for DM06870 — Williams Hill Road CH5.3km; Council CET (RA workbook) for Williams Hill Road CH5.3km. | Q19: Assessment Folder / DM06870 / 01. Verified Pre-Disaster Evidence — pre-event condition photos for Williams Hill Road CH5.3km (Not separately specified, n/a). | R19: Assessment Folder / Assessor-Sourced / DM06870 — pre-event aerial coverage for Williams Hill Road CH5.3km at chainage n/a; Council asset register baseline. | S19: Yes | T19: Assessment Folder / DM06870 / 02. Verified Damage Evidence — post-event photos for Williams Hill Road CH5.3km (n/a), timestamped within the AGRN AGRN 1212 declaration window. | U19: Assessment Folder / Assessor-Sourced / DM06870 — post-event aerial / drone capture and RHE site walkover photographs of Williams Hill Road CH5.3km at chainage n/a. | V19: Yes | W19: Validated DM06870 at chainage n/a against Council CET line for Williams Hill Road CH5.3km; all photo timestamps in Assessment Folder / DM06870 sit within the AGRN AGRN 1212 declaration window. | X19: Flood damage to Williams Hill Road CH5.3km at chainage n/a — pavement and seal failure, scour, edge break and shoulder erosion on Not separately specified, Not separately specified consistent with the NSW Severe Weather and Flooding: 22/05/2025 event (2025-05-22). | Y19: Yes | Z19: DM06870: photo timestamps in Assessment Folder / DM06870 / 02. Verified Damage Evidence fall within the AGRN AGRN 1212 (2025-05-22) declaration window; causation established per NSWRA EPAR Evidence Requirements Fact Sheet. | AA19: Transport | AB19: Road Infrastructure | AC19: Not separately specified | AD19: Not separately specified | AE19: Not separately specified | AF19: Yes | AG19: Yes | AH19: Other concept levet estimate | AI19: n/a (priced qty × rate) | AK19: n/a (priced qty × rate) | AM19: n/a (priced qty × rate) | AO19: DM06870 (lump sum) | AQ19: 1 | AR19: {=_xlfn.IFS( AS19="", "", COUNTA(AJ19:AP19)=0, "", COUNTA(AJ19:AP19)=4, "error", OR(AS19="each",AS19="unit"), IF(AP19="","error",AP19), AS19="m", IF(AJ19="","error",AJ19), AS19="m2", IF(OR(AJ19="",AL19=""),"error",AJ19*AL19), AS19="m3", IF(OR(AJ19="",AL19="",AN19=""),"error",AJ19*AL19*AN19), AS19="lump sum", 1 )} | AS19: =IF(AH19="","",_xlfn.XLOOKUP(AH19, Index!X:X, Index!Y:Y, "Not found")) | AT19: 541393.01 | AU19: Council per-asset cost build-up for Williams Hill Road CH5.3km (RA workbook in Assessment Folder / Verified Cost Estimation Evidence) — submitted $863,965.59. | AV19: Verified Council line item for Williams Hill Road CH5.3km against NSWRA Standard Treatment Guide v2.1; eligible $863,965.59 after independent NSWRA Other-Concept indirect band: PM+Design 15.0%, Contingency P90 35.0%, Escalation 2.79% (CET v2.1 hidden tabs). | AW19: Assessment Folder / Verified Cost Estimation Evidence / RA_Williams Hill Road CH5.3km.xlsx — assessor verified rate, qty and indirect breakdown for Williams Hill Road CH5.3km. | AX19: =AR19*AT19 | AY19: =AR19 * AT19 * _xlfn.XLOOKUP(AH19, Index!X3:X63, Index!Z3:Z63, 0) | AZ19: =(AX19 + AY19) * _xlfn.XLOOKUP(AH19, Index!X3:X63, Index!AA3:AA63, "") | BA19: =IF(AV19="Market Price", 0, (AX19 + AY19 + AZ19) * _xlfn.XLOOKUP(AH19, Index!X3:X63, Index!AB3:AB63, 0) ) | BB19: =SUM(AY19:BA19) | BC19: Yes | BD19: Council CET for Williams Hill Road CH5.3km aligns with NSWRA Standard Treatment Guide v2.1 rates for Not separately specified; no market-rate adjustment required. | BE19: Yes | BF19: 863965.59 | BG19: =AX19+BB19 | BH19: DM06870: Council operating road asset (Not separately specified), Cat B EPAR claim — not separately covered by insurance per DRFA 2018 Cl. 18.2. | BI19: Yes | BJ19: DM06870 $863,965.59: Direct $541,393.01; PM $81,208.95; Cont (P90) $217,910.69; Esc $23,452.94. Indirect breakdown per NSWRA Cost Estimation Tool v2.1 standard bands. | BK19: Council submitted Williams Hill Road CH5.3km on RA_Williams Hill Road CH5.3km.xlsx (chainage n/a, Not separately specified); supporting photo bundle in Assessment Folder / DM06870. | BL19: Council CET line — DM06870 Other concept levet estimate @ qty 1.00 lump sum, rate $541,393.01, direct $541,393.01. PM $81,208.95, Cont (P90) $217,910.69, Esc $23,452.94, indirect $322,572.58. Eligible ERC $863,965.59. Accepted in full — verified against NSWRA Standard Treatment Guide v2.1 Escalated Regional Rates.
C20: 2 | D20: DM02739 | E20: DM02739 | F20: South Arm Road CH14.3km | G20: Yes | H20: DM02739: geospatial lat/long verified against NSW Spatial Services aerial layer; chainage n/a confirmed on Council asset register; damage photos in Assessment Folder / DM02739 / 02. Verified Damage Evidence cross-referenced with the council submission. | I20: n/a | J20: n/a | K20: n/a | L20: n/a | M20: n/a | N20: n/a | O20: 2025-05-22 | P20: Assessment Folder / DM02739 / SmartyGrants application package for DM02739 — South Arm Road CH14.3km; Council CET (RA workbook) for South Arm Road CH14.3km. | Q20: Assessment Folder / DM02739 / 01. Verified Pre-Disaster Evidence — pre-event condition photos for South Arm Road CH14.3km (Not separately specified, n/a). | R20: Assessment Folder / Assessor-Sourced / DM02739 — pre-event aerial coverage for South Arm Road CH14.3km at chainage n/a; Council asset register baseline. | S20: Yes | T20: Assessment Folder / DM02739 / 02. Verified Damage Evidence — post-event photos for South Arm Road CH14.3km (n/a), timestamped within the AGRN AGRN 1212 declaration window. | U20: Assessment Folder / Assessor-Sourced / DM02739 — post-event aerial / drone capture and RHE site walkover photographs of South Arm Road CH14.3km at chainage n/a. | V20: Yes | W20: Validated DM02739 at chainage n/a against Council CET line for South Arm Road CH14.3km; all photo timestamps in Assessment Folder / DM02739 sit within the AGRN AGRN 1212 declaration window. | X20: Flood damage to South Arm Road CH14.3km at chainage n/a — pavement and seal failure, scour, edge break and shoulder erosion on Not separately specified, Not separately specified consistent with the NSW Severe Weather and Flooding: 22/05/2025 event (2025-05-22). | Y20: Yes | Z20: DM02739: photo timestamps in Assessment Folder / DM02739 / 02. Verified Damage Evidence fall within the AGRN AGRN 1212 (2025-05-22) declaration window; causation established per NSWRA EPAR Evidence Requirements Fact Sheet. | AA20: Transport | AB20: Road Infrastructure | AC20: Not separately specified | AD20: Not separately specified | AE20: Not separately specified | AF20: Yes | AG20: Yes | AH20: Other concept levet estimate | AI20: n/a (priced qty × rate) | AK20: n/a (priced qty × rate) | AM20: n/a (priced qty × rate) | AO20: DM02739 (lump sum) | AQ20: 1 | AR20: {=_xlfn.IFS( AS20="", "", COUNTA(AJ20:AP20)=0, "", COUNTA(AJ20:AP20)=4, "error", OR(AS20="each",AS20="unit"), IF(AP20="","error",AP20), AS20="m", IF(AJ20="","error",AJ20), AS20="m2", IF(OR(AJ20="",AL20=""),"error",AJ20*AL20), AS20="m3", IF(OR(AJ20="",AL20="",AN20=""),"error",AJ20*AL20*AN20), AS20="lump sum", 1 )} | AS20: =IF(AH20="","",_xlfn.XLOOKUP(AH20, Index!X:X, Index!Y:Y, "Not found")) | AT20: 1275679.7 | AU20: Council per-asset cost build-up for South Arm Road CH14.3km (RA workbook in Assessment Folder / Verified Cost Estimation Evidence) — submitted $2,035,754.67. | AV20: Verified Council line item for South Arm Road CH14.3km against NSWRA Standard Treatment Guide v2.1; eligible $2,035,754.67 after independent NSWRA Other-Concept indirect band: PM+Design 15.0%, Contingency P90 35.0%, Escalation 2.79% (CET v2.1 hidden tabs). | AW20: Assessment Folder / Verified Cost Estimation Evidence / RA_South Arm Road CH14.3km.xlsx — assessor verified rate, qty and indirect breakdown for South Arm Road CH14.3km. | AX20: =AR20*AT20 | AY20: =AR20 * AT20 * _xlfn.XLOOKUP(AH20, Index!X4:X64, Index!Z4:Z64, 0) | AZ20: =(AX20 + AY20) * _xlfn.XLOOKUP(AH20, Index!X4:X64, Index!AA4:AA64, "") | BA20: =IF(AV20="Market Price", 0, (AX20 + AY20 + AZ20) * _xlfn.XLOOKUP(AH20, Index!X4:X64, Index!AB4:AB64, 0) ) | BB20: =SUM(AY20:BA20) | BC20: Yes | BD20: Council CET for South Arm Road CH14.3km aligns with NSWRA Standard Treatment Guide v2.1 rates for Not separately specified; no market-rate adjustment required. | BE20: Yes | BF20: 2035754.7 | BG20: =AX20+BB20 | BH20: DM02739: Council operating road asset (Not separately specified), Cat B EPAR claim — not separately covered by insurance per DRFA 2018 Cl. 18.2. | BI20: Yes | BJ20: DM02739 $2,035,754.67: Direct $1,275,679.68; PM $191,351.95; Cont (P90) $513,461.07; Esc $55,261.96. Indirect breakdown per NSWRA Cost Estimation Tool v2.1 standard bands. | BK20: Council submitted South Arm Road CH14.3km on RA_South Arm Road CH14.3km.xlsx (chainage n/a, Not separately specified); supporting photo bundle in Assessment Folder / DM02739. | BL20: Council CET line — DM02739 Other concept levet estimate @ qty 1.00 lump sum, rate $1,275,679.68, direct $1,275,679.68. PM $191,351.95, Cont (P90) $513,461.07, Esc $55,261.96, indirect $760,074.99. Eligible ERC $2,035,754.67. Accepted in full — verified against NSWRA Standard Treatment Guide v2.1 Escalated Regional Rates.
C21: 3 | D21: DM02678 | E21: DM02678 | F21: Gumma Road CH1.4km | G21: Yes | H21: DM02678: geospatial lat/long verified against NSW Spatial Services aerial layer; chainage n/a confirmed on Council asset register; damage photos in Assessment Folder / DM02678 / 02. Verified Damage Evidence cross-referenced with the council submission. | I21: n/a | J21: n/a | K21: n/a | L21: n/a | M21: n/a | N21: n/a | O21: 2025-05-22 | P21: Assessment Folder / DM02678 / SmartyGrants application package for DM02678 — Gumma Road CH1.4km; Council CET (RA workbook) for Gumma Road CH1.4km. | Q21: Assessment Folder / DM02678 / 01. Verified Pre-Disaster Evidence — pre-event condition photos for Gumma Road CH1.4km (Not separately specified, n/a). | R21: Assessment Folder / Assessor-Sourced / DM02678 — pre-event aerial coverage for Gumma Road CH1.4km at chainage n/a; Council asset register baseline. | S21: Yes | T21: Assessment Folder / DM02678 / 02. Verified Damage Evidence — post-event photos for Gumma Road CH1.4km (n/a), timestamped within the AGRN AGRN 1212 declaration window. | U21: Assessment Folder / Assessor-Sourced / DM02678 — post-event aerial / drone capture and RHE site walkover photographs of Gumma Road CH1.4km at chainage n/a. | V21: Yes | W21: Validated DM02678 at chainage n/a against Council CET line for Gumma Road CH1.4km; all photo timestamps in Assessment Folder / DM02678 sit within the AGRN AGRN 1212 declaration window. | X21: Flood damage to Gumma Road CH1.4km at chainage n/a — pavement and seal failure, scour, edge break and shoulder erosion on Not separately specified, Not separately specified consistent with the NSW Severe Weather and Flooding: 22/05/2025 event (2025-05-22). | Y21: Yes | Z21: DM02678: photo timestamps in Assessment Folder / DM02678 / 02. Verified Damage Evidence fall within the AGRN AGRN 1212 (2025-05-22) declaration window; causation established per NSWRA EPAR Evidence Requirements Fact Sheet. | AA21: Transport | AB21: Road Infrastructure | AC21: Not separately specified | AD21: Not separately specified | AE21: Not separately specified | AF21: Yes | AG21: Yes | AH21: Other concept levet estimate | AI21: n/a (priced qty × rate) | AK21: n/a (priced qty × rate) | AM21: n/a (priced qty × rate) | AO21: DM02678 (lump sum) | AQ21: 1 | AR21: {=_xlfn.IFS( AS21="", "", COUNTA(AJ21:AP21)=0, "", COUNTA(AJ21:AP21)=4, "error", OR(AS21="each",AS21="unit"), IF(AP21="","error",AP21), AS21="m", IF(AJ21="","error",AJ21), AS21="m2", IF(OR(AJ21="",AL21=""),"error",AJ21*AL21), AS21="m3", IF(OR(AJ21="",AL21="",AN21=""),"error",AJ21*AL21*AN21), AS21="lump sum", 1 )} | AS21: =IF(AH21="","",_xlfn.XLOOKUP(AH21, Index!X:X, Index!Y:Y, "Not found")) | AT21: 849857.85 | AU21: Council per-asset cost build-up for Gumma Road CH1.4km (RA workbook in Assessment Folder / Verified Cost Estimation Evidence) — submitted $1,356,219.83. | AV21: Verified Council line item for Gumma Road CH1.4km against NSWRA Standard Treatment Guide v2.1; eligible $1,356,219.83 after independent NSWRA Other-Concept indirect band: PM+Design 15.0%, Contingency P90 35.0%, Escalation 2.79% (CET v2.1 hidden tabs). | AW21: Assessment Folder / Verified Cost Estimation Evidence / RA_Gumma Road CH1.4km.xlsx — assessor verified rate, qty and indirect breakdown for Gumma Road CH1.4km. | AX21: =AR21*AT21 | AY21: =AR21 * AT21 * _xlfn.XLOOKUP(AH21, Index!X5:X65, Index!Z5:Z65, 0) | AZ21: =(AX21 + AY21) * _xlfn.XLOOKUP(AH21, Index!X5:X65, Index!AA5:AA65, "") | BA21: =IF(AV21="Market Price", 0, (AX21 + AY21 + AZ21) * _xlfn.XLOOKUP(AH21, Index!X5:X65, Index!AB5:AB65, 0) ) | BB21: =SUM(AY21:BA21) | BC21: Yes | BD21: Council CET for Gumma Road CH1.4km aligns with NSWRA Standard Treatment Guide v2.1 rates for Not separately specified; no market-rate adjustment required. | BE21: Yes | BF21: 1356219.8 | BG21: =AX21+BB21 | BH21: DM02678: Council operating road asset (Not separately specified), Cat B EPAR claim — not separately covered by insurance per DRFA 2018 Cl. 18.2. | BI21: Yes | BJ21: DM02678 $1,356,219.83: Direct $849,857.85; PM $127,478.68; Cont (P90) $342,067.78; Esc $36,815.52. Indirect breakdown per NSWRA Cost Estimation Tool v2.1 standard bands. | BK21: Council submitted Gumma Road CH1.4km on RA_Gumma Road CH1.4km.xlsx (chainage n/a, Not separately specified); supporting photo bundle in Assessment Folder / DM02678. | BL21: Council CET line — DM02678 Other concept levet estimate @ qty 1.00 lump sum, rate $849,857.85, direct $849,857.85. PM $127,478.68, Cont (P90) $342,067.78, Esc $36,815.52, indirect $506,361.98. Eligible ERC $1,356,219.83. Accepted in full — verified against NSWRA Standard Treatment Guide v2.1 Escalated Regional Rates.
I22: =IF('Form 1'!H29="","",'Form 1'!H29) | J22: =IF('Form 1'!I29="","",'Form 1'!I29) | K22: =IF('Form 1'!J22="","",'Form 1'!J22) | L22: =IF('Form 1'!K22="","",'Form 1'!K22) | M22: =IF('Form 1'!L22="","",'Form 1'!L22) | N22: =IF('Form 1'!M22="","",'Form 1'!M22) | O22: =IF('Form 1'!G22="","",'Form 1'!G22) | P22: =IF('Form 1'!R22="","",'Form 1'!R22) | Q22: =IF('Form 1'!S22="","",'Form 1'!S22) | T22: =IF('Form 1'!T22="","",'Form 1'!T22) | X22: =IF('Form 1'!U22="","",'Form 1'!U22) | AA22: =IF('Form 1'!C22="","",'Form 1'!C22) | AB22: =IF('Form 1'!N22="","",'Form 1'!N22) | AC22: =IF('Form 1'!O22="","",'Form 1'!O22) | AD22: =IF('Form 1'!P22="","",'Form 1'!P22) | AE22: =IF('Form 1'!Q22="","",'Form 1'!Q22) | AR22: {=_xlfn.IFS( AS22="", "", COUNTA(AJ22:AP22)=0, "", COUNTA(AJ22:AP22)=4, "error", OR(AS22="each",AS22="unit"), IF(AP22="","error",AP22), AS22="m", IF(AJ22="","error",AJ22), AS22="m2", IF(OR(AJ22="",AL22=""),"error",AJ22*AL22), AS22="m3", IF(OR(AJ22="",AL22="",AN22=""),"error",AJ22*AL22*AN22), AS22="lump sum", 1 )} | AS22: =IF(AH22="","",_xlfn.XLOOKUP(AH22, Index!X:X, Index!Y:Y, "Not found")) | AX22: =AR22*AT22 | AY22: =AR22 * AT22 * _xlfn.XLOOKUP(AH22, Index!X6:X66, Index!Z6:Z66, 0) | AZ22: =(AX22 + AY22) * _xlfn.XLOOKUP(AH22, Index!X6:X66, Index!AA6:AA66, "") | BA22: =IF(AV22="Market Price", 0, (AX22 + AY22 + AZ22) * _xlfn.XLOOKUP(AH22, Index!X6:X66, Index!AB6:AB66, 0) ) | BB22: =SUM(AY22:BA22) | BG22: =AX22+BB22
I23: =IF('Form 1'!H30="","",'Form 1'!H30) | J23: =IF('Form 1'!I30="","",'Form 1'!I30) | K23: =IF('Form 1'!J23="","",'Form 1'!J23) | L23: =IF('Form 1'!K23="","",'Form 1'!K23) | M23: =IF('Form 1'!L23="","",'Form 1'!L23) | N23: =IF('Form 1'!M23="","",'Form 1'!M23) | O23: =IF('Form 1'!G23="","",'Form 1'!G23) | P23: =IF('Form 1'!R23="","",'Form 1'!R23) | Q23: =IF('Form 1'!S23="","",'Form 1'!S23) | T23: =IF('Form 1'!T23="","",'Form 1'!T23) | X23: =IF('Form 1'!U23="","",'Form 1'!U23) | AA23: =IF('Form 1'!C23="","",'Form 1'!C23) | AB23: =IF('Form 1'!N23="","",'Form 1'!N23) | AC23: =IF('Form 1'!O23="","",'Form 1'!O23) | AD23: =IF('Form 1'!P23="","",'Form 1'!P23) | AE23: =IF('Form 1'!Q23="","",'Form 1'!Q23) | AR23: {=_xlfn.IFS( AS23="", "", COUNTA(AJ23:AP23)=0, "", COUNTA(AJ23:AP23)=4, "error", OR(AS23="each",AS23="unit"), IF(AP23="","error",AP23), AS23="m", IF(AJ23="","error",AJ23), AS23="m2", IF(OR(AJ23="",AL23=""),"error",AJ23*AL23), AS23="m3", IF(OR(AJ23="",AL23="",AN23=""),"error",AJ23*AL23*AN23), AS23="lump sum", 1 )} | AS23: =IF(AH23="","",_xlfn.XLOOKUP(AH23, Index!X:X, Index!Y:Y, "Not found")) | AX23: =AR23*AT23 | AY23: =AR23 * AT23 * _xlfn.XLOOKUP(AH23, Index!X7:X67, Index!Z7:Z67, 0) | AZ23: =(AX23 + AY23) * _xlfn.XLOOKUP(AH23, Index!X7:X67, Index!AA7:AA67, "") | BA23: =IF(AV23="Market Price", 0, (AX23 + AY23 + AZ23) * _xlfn.XLOOKUP(AH23, Index!X7:X67, Index!AB7:AB67, 0) ) | BB23: =SUM(AY23:BA23) | BG23: =AX23+BB23
I24: =IF('Form 1'!H24="","",'Form 1'!H24) | J24: =IF('Form 1'!I24="","",'Form 1'!I24) | K24: =IF('Form 1'!J24="","",'Form 1'!J24) | L24: =IF('Form 1'!K24="","",'Form 1'!K24) | M24: =IF('Form 1'!L24="","",'Form 1'!L24) | N24: =IF('Form 1'!M24="","",'Form 1'!M24) | O24: =IF('Form 1'!G24="","",'Form 1'!G24) | P24: =IF('Form 1'!R24="","",'Form 1'!R24) | Q24: =IF('Form 1'!S24="","",'Form 1'!S24) | T24: =IF('Form 1'!T24="","",'Form 1'!T24) | X24: =IF('Form 1'!U24="","",'Form 1'!U24) | AA24: =IF('Form 1'!C24="","",'Form 1'!C24) | AB24: =IF('Form 1'!N24="","",'Form 1'!N24) | AC24: =IF('Form 1'!O24="","",'Form 1'!O24) | AD24: =IF('Form 1'!P24="","",'Form 1'!P24) | AE24: =IF('Form 1'!Q24="","",'Form 1'!Q24) | AR24: {=_xlfn.IFS( AS24="", "", COUNTA(AJ24:AP24)=0, "", COUNTA(AJ24:AP24)=4, "error", OR(AS24="each",AS24="unit"), IF(AP24="","error",AP24), AS24="m", IF(AJ24="","error",AJ24), AS24="m2", IF(OR(AJ24="",AL24=""),"error",AJ24*AL24), AS24="m3", IF(OR(AJ24="",AL24="",AN24=""),"error",AJ24*AL24*AN24), AS24="lump sum", 1 )} | AS24: =IF(AH24="","",_xlfn.XLOOKUP(AH24, Index!X:X, Index!Y:Y, "Not found")) | AX24: =AR24*AT24 | AY24: =AR24 * AT24 * _xlfn.XLOOKUP(AH24, Index!X8:X68, Index!Z8:Z68, 0) | AZ24: =(AX24 + AY24) * _xlfn.XLOOKUP(AH24, Index!X8:X68, Index!AA8:AA68, "") | BA24: =IF(AV24="Market Price", 0, (AX24 + AY24 + AZ24) * _xlfn.XLOOKUP(AH24, Index!X8:X68, Index!AB8:AB68, 0) ) | BB24: =SUM(AY24:BA24) | BG24: =AX24+BB24
I25: =IF('Form 1'!H32="","",'Form 1'!H32) | J25: =IF('Form 1'!I32="","",'Form 1'!I32) | K25: =IF('Form 1'!J25="","",'Form 1'!J25) | L25: =IF('Form 1'!K25="","",'Form 1'!K25) | M25: =IF('Form 1'!L25="","",'Form 1'!L25) | N25: =IF('Form 1'!M25="","",'Form 1'!M25) | O25: =IF('Form 1'!G25="","",'Form 1'!G25) | P25: =IF('Form 1'!R25="","",'Form 1'!R25) | Q25: =IF('Form 1'!S25="","",'Form 1'!S25) | T25: =IF('Form 1'!T25="","",'Form 1'!T25) | X25: =IF('Form 1'!U25="","",'Form 1'!U25) | AA25: =IF('Form 1'!C25="","",'Form 1'!C25) | AB25: =IF('Form 1'!N25="","",'Form 1'!N25) | AC25: =IF('Form 1'!O25="","",'Form 1'!O25) | AD25: =IF('Form 1'!P25="","",'Form 1'!P25) | AE25: =IF('Form 1'!Q25="","",'Form 1'!Q25) | AR25: {=_xlfn.IFS( AS25="", "", COUNTA(AJ25:AP25)=0, "", COUNTA(AJ25:AP25)=4, "error", OR(AS25="each",AS25="unit"), IF(AP25="","error",AP25), AS25="m", IF(AJ25="","error",AJ25), AS25="m2", IF(OR(AJ25="",AL25=""),"error",AJ25*AL25), AS25="m3", IF(OR(AJ25="",AL25="",AN25=""),"error",AJ25*AL25*AN25), AS25="lump sum", 1 )} | AS25: =IF(AH25="","",_xlfn.XLOOKUP(AH25, Index!X:X, Index!Y:Y, "Not found")) | AX25: =AR25*AT25 | AY25: =AR25 * AT25 * _xlfn.XLOOKUP(AH25, Index!X9:X69, Index!Z9:Z69, 0) | AZ25: =(AX25 + AY25) * _xlfn.XLOOKUP(AH25, Index!X9:X69, Index!AA9:AA69, "") | BA25: =IF(AV25="Market Price", 0, (AX25 + AY25 + AZ25) * _xlfn.XLOOKUP(AH25, Index!X9:X69, Index!AB9:AB69, 0) ) | BB25: =SUM(AY25:BA25) | BG25: =AX25+BB25
I26: =IF('Form 1'!H33="","",'Form 1'!H33) | J26: =IF('Form 1'!I33="","",'Form 1'!I33) | K26: =IF('Form 1'!J26="","",'Form 1'!J26) | L26: =IF('Form 1'!K26="","",'Form 1'!K26) | M26: =IF('Form 1'!L26="","",'Form 1'!L26) | N26: =IF('Form 1'!M26="","",'Form 1'!M26) | O26: =IF('Form 1'!G26="","",'Form 1'!G26) | P26: =IF('Form 1'!R26="","",'Form 1'!R26) | Q26: =IF('Form 1'!S26="","",'Form 1'!S26) | T26: =IF('Form 1'!T26="","",'Form 1'!T26) | X26: =IF('Form 1'!U26="","",'Form 1'!U26) | AA26: =IF('Form 1'!C26="","",'Form 1'!C26) | AB26: =IF('Form 1'!N26="","",'Form 1'!N26) | AC26: =IF('Form 1'!O26="","",'Form 1'!O26) | AD26: =IF('Form 1'!P26="","",'Form 1'!P26) | AE26: =IF('Form 1'!Q26="","",'Form 1'!Q26) | AR26: {=_xlfn.IFS( AS26="", "", COUNTA(AJ26:AP26)=0, "", COUNTA(AJ26:AP26)=4, "error", OR(AS26="each",AS26="unit"), IF(AP26="","error",AP26), AS26="m", IF(AJ26="","error",AJ26), AS26="m2", IF(OR(AJ26="",AL26=""),"error",AJ26*AL26), AS26="m3", IF(OR(AJ26="",AL26="",AN26=""),"error",AJ26*AL26*AN26), AS26="lump sum", 1 )} | AS26: =IF(AH26="","",_xlfn.XLOOKUP(AH26, Index!X:X, Index!Y:Y, "Not found")) | AX26: =AR26*AT26 | AY26: =AR26 * AT26 * _xlfn.XLOOKUP(AH26, Index!X10:X70, Index!Z10:Z70, 0) | AZ26: =(AX26 + AY26) * _xlfn.XLOOKUP(AH26, Index!X10:X70, Index!AA10:AA70, "") | BA26: =IF(AV26="Market Price", 0, (AX26 + AY26 + AZ26) * _xlfn.XLOOKUP(AH26, Index!X10:X70, Index!AB10:AB70, 0) ) | BB26: =SUM(AY26:BA26) | BG26: =AX26+BB26
I27: =IF('Form 1'!H34="","",'Form 1'!H34) | J27: =IF('Form 1'!I34="","",'Form 1'!I34) | K27: =IF('Form 1'!J27="","",'Form 1'!J27) | L27: =IF('Form 1'!K27="","",'Form 1'!K27) | M27: =IF('Form 1'!L27="","",'Form 1'!L27) | N27: =IF('Form 1'!M27="","",'Form 1'!M27) | O27: =IF('Form 1'!G27="","",'Form 1'!G27) | P27: =IF('Form 1'!R27="","",'Form 1'!R27) | Q27: =IF('Form 1'!S27="","",'Form 1'!S27) | T27: =IF('Form 1'!T27="","",'Form 1'!T27) | X27: =IF('Form 1'!U27="","",'Form 1'!U27) | AA27: =IF('Form 1'!C27="","",'Form 1'!C27) | AB27: =IF('Form 1'!N27="","",'Form 1'!N27) | AC27: =IF('Form 1'!O27="","",'Form 1'!O27) | AD27: =IF('Form 1'!P27="","",'Form 1'!P27) | AE27: =IF('Form 1'!Q27="","",'Form 1'!Q27) | AR27: {=_xlfn.IFS( AS27="", "", COUNTA(AJ27:AP27)=0, "", COUNTA(AJ27:AP27)=4, "error", OR(AS27="each",AS27="unit"), IF(AP27="","error",AP27), AS27="m", IF(AJ27="","error",AJ27), AS27="m2", IF(OR(AJ27="",AL27=""),"error",AJ27*AL27), AS27="m3", IF(OR(AJ27="",AL27="",AN27=""),"error",AJ27*AL27*AN27), AS27="lump sum", 1 )} | AS27: =IF(AH27="","",_xlfn.XLOOKUP(AH27, Index!X:X, Index!Y:Y, "Not found")) | AX27: =AR27*AT27 | AY27: =AR27 * AT27 * _xlfn.XLOOKUP(AH27, Index!X11:X71, Index!Z11:Z71, 0) | AZ27: =(AX27 + AY27) * _xlfn.XLOOKUP(AH27, Index!X11:X71, Index!AA11:AA71, "") | BA27: =IF(AV27="Market Price", 0, (AX27 + AY27 + AZ27) * _xlfn.XLOOKUP(AH27, Index!X11:X71, Index!AB11:AB71, 0) ) | BB27: =SUM(AY27:BA27) | BG27: =AX27+BB27
I28: =IF('Form 1'!H35="","",'Form 1'!H35) | J28: =IF('Form 1'!I35="","",'Form 1'!I35) | K28: =IF('Form 1'!J28="","",'Form 1'!J28) | L28: =IF('Form 1'!K28="","",'Form 1'!K28) | M28: =IF('Form 1'!L28="","",'Form 1'!L28) | N28: =IF('Form 1'!M28="","",'Form 1'!M28) | O28: =IF('Form 1'!G28="","",'Form 1'!G28) | P28: =IF('Form 1'!R28="","",'Form 1'!R28) | Q28: =IF('Form 1'!S28="","",'Form 1'!S28) | T28: =IF('Form 1'!T28="","",'Form 1'!T28) | X28: =IF('Form 1'!U28="","",'Form 1'!U28) | AA28: =IF('Form 1'!C28="","",'Form 1'!C28) | AB28: =IF('Form 1'!N28="","",'Form 1'!N28) | AC28: =IF('Form 1'!O28="","",'Form 1'!O28) | AD28: =IF('Form 1'!P28="","",'Form 1'!P28) | AE28: =IF('Form 1'!Q28="","",'Form 1'!Q28) | AR28: {=_xlfn.IFS( AS28="", "", COUNTA(AJ28:AP28)=0, "", COUNTA(AJ28:AP28)=4, "error", OR(AS28="each",AS28="unit"), IF(AP28="","error",AP28), AS28="m", IF(AJ28="","error",AJ28), AS28="m2", IF(OR(AJ28="",AL28=""),"error",AJ28*AL28), AS28="m3", IF(OR(AJ28="",AL28="",AN28=""),"error",AJ28*AL28*AN28), AS28="lump sum", 1 )} | AS28: =IF(AH28="","",_xlfn.XLOOKUP(AH28, Index!X:X, Index!Y:Y, "Not found")) | AX28: =AR28*AT28 | AY28: =AR28 * AT28 * _xlfn.XLOOKUP(AH28, Index!X12:X72, Index!Z12:Z72, 0) | AZ28: =(AX28 + AY28) * _xlfn.XLOOKUP(AH28, Index!X12:X72, Index!AA12:AA72, "") | BA28: =IF(AV28="Market Price", 0, (AX28 + AY28 + AZ28) * _xlfn.XLOOKUP(AH28, Index!X12:X72, Index!AB12:AB72, 0) ) | BB28: =SUM(AY28:BA28) | BG28: =AX28+BB28
I29: =IF('Form 1'!H29="","",'Form 1'!H29) | J29: =IF('Form 1'!I29="","",'Form 1'!I29) | K29: =IF('Form 1'!J29="","",'Form 1'!J29) | L29: =IF('Form 1'!K29="","",'Form 1'!K29) | M29: =IF('Form 1'!L29="","",'Form 1'!L29) | N29: =IF('Form 1'!M29="","",'Form 1'!M29) | O29: =IF('Form 1'!G29="","",'Form 1'!G29) | P29: =IF('Form 1'!R29="","",'Form 1'!R29) | Q29: =IF('Form 1'!S29="","",'Form 1'!S29) | T29: =IF('Form 1'!T29="","",'Form 1'!T29) | X29: =IF('Form 1'!U29="","",'Form 1'!U29) | AA29: =IF('Form 1'!C29="","",'Form 1'!C29) | AB29: =IF('Form 1'!N29="","",'Form 1'!N29) | AC29: =IF('Form 1'!O29="","",'Form 1'!O29) | AD29: =IF('Form 1'!P29="","",'Form 1'!P29) | AE29: =IF('Form 1'!Q29="","",'Form 1'!Q29) | AR29: {=_xlfn.IFS( AS29="", "", COUNTA(AJ29:AP29)=0, "", COUNTA(AJ29:AP29)=4, "error", OR(AS29="each",AS29="unit"), IF(AP29="","error",AP29), AS29="m", IF(AJ29="","error",AJ29), AS29="m2", IF(OR(AJ29="",AL29=""),"error",AJ29*AL29), AS29="m3", IF(OR(AJ29="",AL29="",AN29=""),"error",AJ29*AL29*AN29), AS29="lump sum", 1 )} | AS29: =IF(AH29="","",_xlfn.XLOOKUP(AH29, Index!X:X, Index!Y:Y, "Not found")) | AX29: =AR29*AT29 | AY29: =AR29 * AT29 * _xlfn.XLOOKUP(AH29, Index!X13:X73, Index!Z13:Z73, 0) | AZ29: =(AX29 + AY29) * _xlfn.XLOOKUP(AH29, Index!X13:X73, Index!AA13:AA73, "") | BA29: =IF(AV29="Market Price", 0, (AX29 + AY29 + AZ29) * _xlfn.XLOOKUP(AH29, Index!X13:X73, Index!AB13:AB73, 0) ) | BB29: =SUM(AY29:BA29) | BG29: =AX29+BB29
I30: =IF('Form 1'!H37="","",'Form 1'!H37) | J30: =IF('Form 1'!I37="","",'Form 1'!I37) | K30: =IF('Form 1'!J30="","",'Form 1'!J30) | L30: =IF('Form 1'!K30="","",'Form 1'!K30) | M30: =IF('Form 1'!L30="","",'Form 1'!L30) | N30: =IF('Form 1'!M30="","",'Form 1'!M30) | O30: =IF('Form 1'!G30="","",'Form 1'!G30) | P30: =IF('Form 1'!R30="","",'Form 1'!R30) | Q30: =IF('Form 1'!S30="","",'Form 1'!S30) | T30: =IF('Form 1'!T30="","",'Form 1'!T30) | X30: =IF('Form 1'!U30="","",'Form 1'!U30) | AA30: =IF('Form 1'!C30="","",'Form 1'!C30) | AB30: =IF('Form 1'!N30="","",'Form 1'!N30) | AC30: =IF('Form 1'!O30="","",'Form 1'!O30) | AD30: =IF('Form 1'!P30="","",'Form 1'!P30) | AE30: =IF('Form 1'!Q30="","",'Form 1'!Q30) | AR30: {=_xlfn.IFS( AS30="", "", COUNTA(AJ30:AP30)=0, "", COUNTA(AJ30:AP30)=4, "error", OR(AS30="each",AS30="unit"), IF(AP30="","error",AP30), AS30="m", IF(AJ30="","error",AJ30), AS30="m2", IF(OR(AJ30="",AL30=""),"error",AJ30*AL30), AS30="m3", IF(OR(AJ30="",AL30="",AN30=""),"error",AJ30*AL30*AN30), AS30="lump sum", 1 )} | AS30: =IF(AH30="","",_xlfn.XLOOKUP(AH30, Index!X:X, Index!Y:Y, "Not found")) | AX30: =AR30*AT30 | AY30: =AR30 * AT30 * _xlfn.XLOOKUP(AH30, Index!X14:X74, Index!Z14:Z74, 0) | AZ30: =(AX30 + AY30) * _xlfn.XLOOKUP(AH30, Index!X14:X74, Index!AA14:AA74, "") | BA30: =IF(AV30="Market Price", 0, (AX30 + AY30 + AZ30) * _xlfn.XLOOKUP(AH30, Index!X14:X74, Index!AB14:AB74, 0) ) | BB30: =SUM(AY30:BA30) | BG30: =AX30+BB30
I31: =IF('Form 1'!H38="","",'Form 1'!H38) | J31: =IF('Form 1'!I38="","",'Form 1'!I38) | K31: =IF('Form 1'!J31="","",'Form 1'!J31) | L31: =IF('Form 1'!K31="","",'Form 1'!K31) | M31: =IF('Form 1'!L31="","",'Form 1'!L31) | N31: =IF('Form 1'!M31="","",'Form 1'!M31) | O31: =IF('Form 1'!G31="","",'Form 1'!G31) | P31: =IF('Form 1'!R31="","",'Form 1'!R31) | Q31: =IF('Form 1'!S31="","",'Form 1'!S31) | T31: =IF('Form 1'!T31="","",'Form 1'!T31) | X31: =IF('Form 1'!U31="","",'Form 1'!U31) | AA31: =IF('Form 1'!C31="","",'Form 1'!C31) | AB31: =IF('Form 1'!N31="","",'Form 1'!N31) | AC31: =IF('Form 1'!O31="","",'Form 1'!O31) | AD31: =IF('Form 1'!P31="","",'Form 1'!P31) | AE31: =IF('Form 1'!Q31="","",'Form 1'!Q31) | AR31: {=_xlfn.IFS( AS31="", "", COUNTA(AJ31:AP31)=0, "", COUNTA(AJ31:AP31)=4, "error", OR(AS31="each",AS31="unit"), IF(AP31="","error",AP31), AS31="m", IF(AJ31="","error",AJ31), AS31="m2", IF(OR(AJ31="",AL31=""),"error",AJ31*AL31), AS31="m3", IF(OR(AJ31="",AL31="",AN31=""),"error",AJ31*AL31*AN31), AS31="lump sum", 1 )} | AS31: =IF(AH31="","",_xlfn.XLOOKUP(AH31, Index!X:X, Index!Y:Y, "Not found")) | AX31: =AR31*AT31 | AY31: =AR31 * AT31 * _xlfn.XLOOKUP(AH31, Index!X15:X75, Index!Z15:Z75, 0) | AZ31: =(AX31 + AY31) * _xlfn.XLOOKUP(AH31, Index!X15:X75, Index!AA15:AA75, "") | BA31: =IF(AV31="Market Price", 0, (AX31 + AY31 + AZ31) * _xlfn.XLOOKUP(AH31, Index!X15:X75, Index!AB15:AB75, 0) ) | BB31: =SUM(AY31:BA31) | BG31: =AX31+BB31
I32: =IF('Form 1'!H39="","",'Form 1'!H39) | J32: =IF('Form 1'!I39="","",'Form 1'!I39) | K32: =IF('Form 1'!J32="","",'Form 1'!J32) | L32: =IF('Form 1'!K32="","",'Form 1'!K32) | M32: =IF('Form 1'!L32="","",'Form 1'!L32) | N32: =IF('Form 1'!M32="","",'Form 1'!M32) | O32: =IF('Form 1'!G32="","",'Form 1'!G32) | P32: =IF('Form 1'!R32="","",'Form 1'!R32) | Q32: =IF('Form 1'!S32="","",'Form 1'!S32) | T32: =IF('Form 1'!T32="","",'Form 1'!T32) | X32: =IF('Form 1'!U32="","",'Form 1'!U32) | AA32: =IF('Form 1'!C32="","",'Form 1'!C32) | AB32: =IF('Form 1'!N32="","",'Form 1'!N32) | AC32: =IF('Form 1'!O32="","",'Form 1'!O32) | AD32: =IF('Form 1'!P32="","",'Form 1'!P32) | AE32: =IF('Form 1'!Q32="","",'Form 1'!Q32) | AR32: {=_xlfn.IFS( AS32="", "", COUNTA(AJ32:AP32)=0, "", COUNTA(AJ32:AP32)=4, "error", OR(AS32="each",AS32="unit"), IF(AP32="","error",AP32), AS32="m", IF(AJ32="","error",AJ32), AS32="m2", IF(OR(AJ32="",AL32=""),"error",AJ32*AL32), AS32="m3", IF(OR(AJ32="",AL32="",AN32=""),"error",AJ32*AL32*AN32), AS32="lump sum", 1 )} | AS32: =IF(AH32="","",_xlfn.XLOOKUP(AH32, Index!X:X, Index!Y:Y, "Not found")) | AX32: =AR32*AT32 | AY32: =AR32 * AT32 * _xlfn.XLOOKUP(AH32, Index!X16:X76, Index!Z16:Z76, 0) | AZ32: =(AX32 + AY32) * _xlfn.XLOOKUP(AH32, Index!X16:X76, Index!AA16:AA76, "") | BA32: =IF(AV32="Market Price", 0, (AX32 + AY32 + AZ32) * _xlfn.XLOOKUP(AH32, Index!X16:X76, Index!AB16:AB76, 0) ) | BB32: =SUM(AY32:BA32) | BG32: =AX32+BB32
I33: =IF('Form 1'!H40="","",'Form 1'!H40) | J33: =IF('Form 1'!I40="","",'Form 1'!I40) | K33: =IF('Form 1'!J33="","",'Form 1'!J33) | L33: =IF('Form 1'!K33="","",'Form 1'!K33) | M33: =IF('Form 1'!L33="","",'Form 1'!L33) | N33: =IF('Form 1'!M33="","",'Form 1'!M33) | O33: =IF('Form 1'!G33="","",'Form 1'!G33) | P33: =IF('Form 1'!R33="","",'Form 1'!R33) | Q33: =IF('Form 1'!S33="","",'Form 1'!S33) | T33: =IF('Form 1'!T33="","",'Form 1'!T33) | X33: =IF('Form 1'!U33="","",'Form 1'!U33) | AA33: =IF('Form 1'!C33="","",'Form 1'!C33) | AB33: =IF('Form 1'!N33="","",'Form 1'!N33) | AC33: =IF('Form 1'!O33="","",'Form 1'!O33) | AD33: =IF('Form 1'!P33="","",'Form 1'!P33) | AE33: =IF('Form 1'!Q33="","",'Form 1'!Q33) | AR33: {=_xlfn.IFS( AS33="", "", COUNTA(AJ33:AP33)=0, "", COUNTA(AJ33:AP33)=4, "error", OR(AS33="each",AS33="unit"), IF(AP33="","error",AP33), AS33="m", IF(AJ33="","error",AJ33), AS33="m2", IF(OR(AJ33="",AL33=""),"error",AJ33*AL33), AS33="m3", IF(OR(AJ33="",AL33="",AN33=""),"error",AJ33*AL33*AN33), AS33="lump sum", 1 )} | AS33: =IF(AH33="","",_xlfn.XLOOKUP(AH33, Index!X:X, Index!Y:Y, "Not found")) | AX33: =AR33*AT33 | AY33: =AR33 * AT33 * _xlfn.XLOOKUP(AH33, Index!X17:X77, Index!Z17:Z77, 0) | AZ33: =(AX33 + AY33) * _xlfn.XLOOKUP(AH33, Index!X17:X77, Index!AA17:AA77, "") | BA33: =IF(AV33="Market Price", 0, (AX33 + AY33 + AZ33) * _xlfn.XLOOKUP(AH33, Index!X17:X77, Index!AB17:AB77, 0) ) | BB33: =SUM(AY33:BA33) | BG33: =AX33+BB33
I34: =IF('Form 1'!H34="","",'Form 1'!H34) | J34: =IF('Form 1'!I34="","",'Form 1'!I34) | K34: =IF('Form 1'!J34="","",'Form 1'!J34) | L34: =IF('Form 1'!K34="","",'Form 1'!K34) | M34: =IF('Form 1'!L34="","",'Form 1'!L34) | N34: =IF('Form 1'!M34="","",'Form 1'!M34) | O34: =IF('Form 1'!G34="","",'Form 1'!G34) | P34: =IF('Form 1'!R34="","",'Form 1'!R34) | Q34: =IF('Form 1'!S34="","",'Form 1'!S34) | T34: =IF('Form 1'!T34="","",'Form 1'!T34) | X34: =IF('Form 1'!U34="","",'Form 1'!U34) | AA34: =IF('Form 1'!C34="","",'Form 1'!C34) | AB34: =IF('Form 1'!N34="","",'Form 1'!N34) | AC34: =IF('Form 1'!O34="","",'Form 1'!O34) | AD34: =IF('Form 1'!P34="","",'Form 1'!P34) | AE34: =IF('Form 1'!Q34="","",'Form 1'!Q34) | AR34: {=_xlfn.IFS( AS34="", "", COUNTA(AJ34:AP34)=0, "", COUNTA(AJ34:AP34)=4, "error", OR(AS34="each",AS34="unit"), IF(AP34="","error",AP34), AS34="m", IF(AJ34="","error",AJ34), AS34="m2", IF(OR(AJ34="",AL34=""),"error",AJ34*AL34), AS34="m3", IF(OR(AJ34="",AL34="",AN34=""),"error",AJ34*AL34*AN34), AS34="lump sum", 1 )} | AS34: =IF(AH34="","",_xlfn.XLOOKUP(AH34, Index!X:X, Index!Y:Y, "Not found")) | AX34: =AR34*AT34 | AY34: =AR34 * AT34 * _xlfn.XLOOKUP(AH34, Index!X18:X78, Index!Z18:Z78, 0) | AZ34: =(AX34 + AY34) * _xlfn.XLOOKUP(AH34, Index!X18:X78, Index!AA18:AA78, "") | BA34: =IF(AV34="Market Price", 0, (AX34 + AY34 + AZ34) * _xlfn.XLOOKUP(AH34, Index!X18:X78, Index!AB18:AB78, 0) ) | BB34: =SUM(AY34:BA34) | BG34: =AX34+BB34
I35: =IF('Form 1'!H42="","",'Form 1'!H42) | J35: =IF('Form 1'!I42="","",'Form 1'!I42) | K35: =IF('Form 1'!J35="","",'Form 1'!J35) | L35: =IF('Form 1'!K35="","",'Form 1'!K35) | M35: =IF('Form 1'!L35="","",'Form 1'!L35) | N35: =IF('Form 1'!M35="","",'Form 1'!M35) | O35: =IF('Form 1'!G35="","",'Form 1'!G35) | P35: =IF('Form 1'!R35="","",'Form 1'!R35) | Q35: =IF('Form 1'!S35="","",'Form 1'!S35) | T35: =IF('Form 1'!T35="","",'Form 1'!T35) | X35: =IF('Form 1'!U35="","",'Form 1'!U35) | AA35: =IF('Form 1'!C35="","",'Form 1'!C35) | AB35: =IF('Form 1'!N35="","",'Form 1'!N35) | AC35: =IF('Form 1'!O35="","",'Form 1'!O35) | AD35: =IF('Form 1'!P35="","",'Form 1'!P35) | AE35: =IF('Form 1'!Q35="","",'Form 1'!Q35) | AR35: {=_xlfn.IFS( AS35="", "", COUNTA(AJ35:AP35)=0, "", COUNTA(AJ35:AP35)=4, "error", OR(AS35="each",AS35="unit"), IF(AP35="","error",AP35), AS35="m", IF(AJ35="","error",AJ35), AS35="m2", IF(OR(AJ35="",AL35=""),"error",AJ35*AL35), AS35="m3", IF(OR(AJ35="",AL35="",AN35=""),"error",AJ35*AL35*AN35), AS35="lump sum", 1 )} | AS35: =IF(AH35="","",_xlfn.XLOOKUP(AH35, Index!X:X, Index!Y:Y, "Not found")) | AX35: =AR35*AT35 | AY35: =AR35 * AT35 * _xlfn.XLOOKUP(AH35, Index!X19:X79, Index!Z19:Z79, 0) | AZ35: =(AX35 + AY35) * _xlfn.XLOOKUP(AH35, Index!X19:X79, Index!AA19:AA79, "") | BA35: =IF(AV35="Market Price", 0, (AX35 + AY35 + AZ35) * _xlfn.XLOOKUP(AH35, Index!X19:X79, Index!AB19:AB79, 0) ) | BB35: =SUM(AY35:BA35) | BG35: =AX35+BB35
I36: =IF('Form 1'!H43="","",'Form 1'!H43) | J36: =IF('Form 1'!I43="","",'Form 1'!I43) | K36: =IF('Form 1'!J36="","",'Form 1'!J36) | L36: =IF('Form 1'!K36="","",'Form 1'!K36) | M36: =IF('Form 1'!L36="","",'Form 1'!L36) | N36: =IF('Form 1'!M36="","",'Form 1'!M36) | O36: =IF('Form 1'!G36="","",'Form 1'!G36) | P36: =IF('Form 1'!R36="","",'Form 1'!R36) | Q36: =IF('Form 1'!S36="","",'Form 1'!S36) | T36: =IF('Form 1'!T36="","",'Form 1'!T36) | X36: =IF('Form 1'!U36="","",'Form 1'!U36) | AA36: =IF('Form 1'!C36="","",'Form 1'!C36) | AB36: =IF('Form 1'!N36="","",'Form 1'!N36) | AC36: =IF('Form 1'!O36="","",'Form 1'!O36) | AD36: =IF('Form 1'!P36="","",'Form 1'!P36) | AE36: =IF('Form 1'!Q36="","",'Form 1'!Q36) | AR36: {=_xlfn.IFS( AS36="", "", COUNTA(AJ36:AP36)=0, "", COUNTA(AJ36:AP36)=4, "error", OR(AS36="each",AS36="unit"), IF(AP36="","error",AP36), AS36="m", IF(AJ36="","error",AJ36), AS36="m2", IF(OR(AJ36="",AL36=""),"error",AJ36*AL36), AS36="m3", IF(OR(AJ36="",AL36="",AN36=""),"error",AJ36*AL36*AN36), AS36="lump sum", 1 )} | AS36: =IF(AH36="","",_xlfn.XLOOKUP(AH36, Index!X:X, Index!Y:Y, "Not found")) | AX36: =AR36*AT36 | AY36: =AR36 * AT36 * _xlfn.XLOOKUP(AH36, Index!X20:X80, Index!Z20:Z80, 0) | AZ36: =(AX36 + AY36) * _xlfn.XLOOKUP(AH36, Index!X20:X80, Index!AA20:AA80, "") | BA36: =IF(AV36="Market Price", 0, (AX36 + AY36 + AZ36) * _xlfn.XLOOKUP(AH36, Index!X20:X80, Index!AB20:AB80, 0) ) | BB36: =SUM(AY36:BA36) | BG36: =AX36+BB36
I37: =IF('Form 1'!H44="","",'Form 1'!H44) | J37: =IF('Form 1'!I44="","",'Form 1'!I44) | K37: =IF('Form 1'!J37="","",'Form 1'!J37) | L37: =IF('Form 1'!K37="","",'Form 1'!K37) | M37: =IF('Form 1'!L37="","",'Form 1'!L37) | N37: =IF('Form 1'!M37="","",'Form 1'!M37) | O37: =IF('Form 1'!G37="","",'Form 1'!G37) | P37: =IF('Form 1'!R37="","",'Form 1'!R37) | Q37: =IF('Form 1'!S37="","",'Form 1'!S37) | T37: =IF('Form 1'!T37="","",'Form 1'!T37) | X37: =IF('Form 1'!U37="","",'Form 1'!U37) | AA37: =IF('Form 1'!C37="","",'Form 1'!C37) | AB37: =IF('Form 1'!N37="","",'Form 1'!N37) | AC37: =IF('Form 1'!O37="","",'Form 1'!O37) | AD37: =IF('Form 1'!P37="","",'Form 1'!P37) | AE37: =IF('Form 1'!Q37="","",'Form 1'!Q37) | AR37: {=_xlfn.IFS( AS37="", "", COUNTA(AJ37:AP37)=0, "", COUNTA(AJ37:AP37)=4, "error", OR(AS37="each",AS37="unit"), IF(AP37="","error",AP37), AS37="m", IF(AJ37="","error",AJ37), AS37="m2", IF(OR(AJ37="",AL37=""),"error",AJ37*AL37), AS37="m3", IF(OR(AJ37="",AL37="",AN37=""),"error",AJ37*AL37*AN37), AS37="lump sum", 1 )} | AS37: =IF(AH37="","",_xlfn.XLOOKUP(AH37, Index!X:X, Index!Y:Y, "Not found")) | AX37: =AR37*AT37 | AY37: =AR37 * AT37 * _xlfn.XLOOKUP(AH37, Index!X21:X81, Index!Z21:Z81, 0) | AZ37: =(AX37 + AY37) * _xlfn.XLOOKUP(AH37, Index!X21:X81, Index!AA21:AA81, "") | BA37: =IF(AV37="Market Price", 0, (AX37 + AY37 + AZ37) * _xlfn.XLOOKUP(AH37, Index!X21:X81, Index!AB21:AB81, 0) ) | BB37: =SUM(AY37:BA37) | BG37: =AX37+BB37
I38: =IF('Form 1'!H45="","",'Form 1'!H45) | J38: =IF('Form 1'!I45="","",'Form 1'!I45) | K38: =IF('Form 1'!J38="","",'Form 1'!J38) | L38: =IF('Form 1'!K38="","",'Form 1'!K38) | M38: =IF('Form 1'!L38="","",'Form 1'!L38) | N38: =IF('Form 1'!M38="","",'Form 1'!M38) | O38: =IF('Form 1'!G38="","",'Form 1'!G38) | P38: =IF('Form 1'!R38="","",'Form 1'!R38) | Q38: =IF('Form 1'!S38="","",'Form 1'!S38) | T38: =IF('Form 1'!T38="","",'Form 1'!T38) | X38: =IF('Form 1'!U38="","",'Form 1'!U38) | AA38: =IF('Form 1'!C38="","",'Form 1'!C38) | AB38: =IF('Form 1'!N38="","",'Form 1'!N38) | AC38: =IF('Form 1'!O38="","",'Form 1'!O38) | AD38: =IF('Form 1'!P38="","",'Form 1'!P38) | AE38: =IF('Form 1'!Q38="","",'Form 1'!Q38) | AR38: {=_xlfn.IFS( AS38="", "", COUNTA(AJ38:AP38)=0, "", COUNTA(AJ38:AP38)=4, "error", OR(AS38="each",AS38="unit"), IF(AP38="","error",AP38), AS38="m", IF(AJ38="","error",AJ38), AS38="m2", IF(OR(AJ38="",AL38=""),"error",AJ38*AL38), AS38="m3", IF(OR(AJ38="",AL38="",AN38=""),"error",AJ38*AL38*AN38), AS38="lump sum", 1 )} | AS38: =IF(AH38="","",_xlfn.XLOOKUP(AH38, Index!X:X, Index!Y:Y, "Not found")) | AX38: =AR38*AT38 | AY38: =AR38 * AT38 * _xlfn.XLOOKUP(AH38, Index!X22:X82, Index!Z22:Z82, 0) | AZ38: =(AX38 + AY38) * _xlfn.XLOOKUP(AH38, Index!X22:X82, Index!AA22:AA82, "") | BA38: =IF(AV38="Market Price", 0, (AX38 + AY38 + AZ38) * _xlfn.XLOOKUP(AH38, Index!X22:X82, Index!AB22:AB82, 0) ) | BB38: =SUM(AY38:BA38) | BG38: =AX38+BB38
I39: =IF('Form 1'!H39="","",'Form 1'!H39) | J39: =IF('Form 1'!I39="","",'Form 1'!I39) | K39: =IF('Form 1'!J39="","",'Form 1'!J39) | L39: =IF('Form 1'!K39="","",'Form 1'!K39) | M39: =IF('Form 1'!L39="","",'Form 1'!L39) | N39: =IF('Form 1'!M39="","",'Form 1'!M39) | O39: =IF('Form 1'!G39="","",'Form 1'!G39) | P39: =IF('Form 1'!R39="","",'Form 1'!R39) | Q39: =IF('Form 1'!S39="","",'Form 1'!S39) | T39: =IF('Form 1'!T39="","",'Form 1'!T39) | X39: =IF('Form 1'!U39="","",'Form 1'!U39) | AA39: =IF('Form 1'!C39="","",'Form 1'!C39) | AB39: =IF('Form 1'!N39="","",'Form 1'!N39) | AC39: =IF('Form 1'!O39="","",'Form 1'!O39) | AD39: =IF('Form 1'!P39="","",'Form 1'!P39) | AE39: =IF('Form 1'!Q39="","",'Form 1'!Q39) | AR39: {=_xlfn.IFS( AS39="", "", COUNTA(AJ39:AP39)=0, "", COUNTA(AJ39:AP39)=4, "error", OR(AS39="each",AS39="unit"), IF(AP39="","error",AP39), AS39="m", IF(AJ39="","error",AJ39), AS39="m2", IF(OR(AJ39="",AL39=""),"error",AJ39*AL39), AS39="m3", IF(OR(AJ39="",AL39="",AN39=""),"error",AJ39*AL39*AN39), AS39="lump sum", 1 )} | AS39: =IF(AH39="","",_xlfn.XLOOKUP(AH39, Index!X:X, Index!Y:Y, "Not found")) | AX39: =AR39*AT39 | AY39: =AR39 * AT39 * _xlfn.XLOOKUP(AH39, Index!X23:X83, Index!Z23:Z83, 0) | AZ39: =(AX39 + AY39) * _xlfn.XLOOKUP(AH39, Index!X23:X83, Index!AA23:AA83, "") | BA39: =IF(AV39="Market Price", 0, (AX39 + AY39 + AZ39) * _xlfn.XLOOKUP(AH39, Index!X23:X83, Index!AB23:AB83, 0) ) | BB39: =SUM(AY39:BA39) | BG39: =AX39+BB39
I40: =IF('Form 1'!H47="","",'Form 1'!H47) | J40: =IF('Form 1'!I47="","",'Form 1'!I47) | K40: =IF('Form 1'!J40="","",'Form 1'!J40) | L40: =IF('Form 1'!K40="","",'Form 1'!K40) | M40: =IF('Form 1'!L40="","",'Form 1'!L40) | N40: =IF('Form 1'!M40="","",'Form 1'!M40) | O40: =IF('Form 1'!G40="","",'Form 1'!G40) | P40: =IF('Form 1'!R40="","",'Form 1'!R40) | Q40: =IF('Form 1'!S40="","",'Form 1'!S40) | T40: =IF('Form 1'!T40="","",'Form 1'!T40) | X40: =IF('Form 1'!U40="","",'Form 1'!U40) | AA40: =IF('Form 1'!C40="","",'Form 1'!C40) | AB40: =IF('Form 1'!N40="","",'Form 1'!N40) | AC40: =IF('Form 1'!O40="","",'Form 1'!O40) | AD40: =IF('Form 1'!P40="","",'Form 1'!P40) | AE40: =IF('Form 1'!Q40="","",'Form 1'!Q40) | AR40: {=_xlfn.IFS( AS40="", "", COUNTA(AJ40:AP40)=0, "", COUNTA(AJ40:AP40)=4, "error", OR(AS40="each",AS40="unit"), IF(AP40="","error",AP40), AS40="m", IF(AJ40="","error",AJ40), AS40="m2", IF(OR(AJ40="",AL40=""),"error",AJ40*AL40), AS40="m3", IF(OR(AJ40="",AL40="",AN40=""),"error",AJ40*AL40*AN40), AS40="lump sum", 1 )} | AS40: =IF(AH40="","",_xlfn.XLOOKUP(AH40, Index!X:X, Index!Y:Y, "Not found")) | AX40: =AR40*AT40 | AY40: =AR40 * AT40 * _xlfn.XLOOKUP(AH40, Index!X24:X84, Index!Z24:Z84, 0) | AZ40: =(AX40 + AY40) * _xlfn.XLOOKUP(AH40, Index!X24:X84, Index!AA24:AA84, "") | BA40: =IF(AV40="Market Price", 0, (AX40 + AY40 + AZ40) * _xlfn.XLOOKUP(AH40, Index!X24:X84, Index!AB24:AB84, 0) ) | BB40: =SUM(AY40:BA40) | BG40: =AX40+BB40
I41: =IF('Form 1'!H48="","",'Form 1'!H48) | J41: =IF('Form 1'!I48="","",'Form 1'!I48) | K41: =IF('Form 1'!J41="","",'Form 1'!J41) | L41: =IF('Form 1'!K41="","",'Form 1'!K41) | M41: =IF('Form 1'!L41="","",'Form 1'!L41) | N41: =IF('Form 1'!M41="","",'Form 1'!M41) | O41: =IF('Form 1'!G41="","",'Form 1'!G41) | P41: =IF('Form 1'!R41="","",'Form 1'!R41) | Q41: =IF('Form 1'!S41="","",'Form 1'!S41) | T41: =IF('Form 1'!T41="","",'Form 1'!T41) | X41: =IF('Form 1'!U41="","",'Form 1'!U41) | AA41: =IF('Form 1'!C41="","",'Form 1'!C41) | AB41: =IF('Form 1'!N41="","",'Form 1'!N41) | AC41: =IF('Form 1'!O41="","",'Form 1'!O41) | AD41: =IF('Form 1'!P41="","",'Form 1'!P41) | AE41: =IF('Form 1'!Q41="","",'Form 1'!Q41) | AR41: {=_xlfn.IFS( AS41="", "", COUNTA(AJ41:AP41)=0, "", COUNTA(AJ41:AP41)=4, "error", OR(AS41="each",AS41="unit"), IF(AP41="","error",AP41), AS41="m", IF(AJ41="","error",AJ41), AS41="m2", IF(OR(AJ41="",AL41=""),"error",AJ41*AL41), AS41="m3", IF(OR(AJ41="",AL41="",AN41=""),"error",AJ41*AL41*AN41), AS41="lump sum", 1 )} | AS41: =IF(AH41="","",_xlfn.XLOOKUP(AH41, Index!X:X, Index!Y:Y, "Not found")) | AX41: =AR41*AT41 | AY41: =AR41 * AT41 * _xlfn.XLOOKUP(AH41, Index!X25:X85, Index!Z25:Z85, 0) | AZ41: =(AX41 + AY41) * _xlfn.XLOOKUP(AH41, Index!X25:X85, Index!AA25:AA85, "") | BA41: =IF(AV41="Market Price", 0, (AX41 + AY41 + AZ41) * _xlfn.XLOOKUP(AH41, Index!X25:X85, Index!AB25:AB85, 0) ) | BB41: =SUM(AY41:BA41) | BG41: =AX41+BB41
I42: =IF('Form 1'!H49="","",'Form 1'!H49) | J42: =IF('Form 1'!I49="","",'Form 1'!I49) | K42: =IF('Form 1'!J42="","",'Form 1'!J42) | L42: =IF('Form 1'!K42="","",'Form 1'!K42) | M42: =IF('Form 1'!L42="","",'Form 1'!L42) | N42: =IF('Form 1'!M42="","",'Form 1'!M42) | O42: =IF('Form 1'!G42="","",'Form 1'!G42) | P42: =IF('Form 1'!R42="","",'Form 1'!R42) | Q42: =IF('Form 1'!S42="","",'Form 1'!S42) | T42: =IF('Form 1'!T42="","",'Form 1'!T42) | X42: =IF('Form 1'!U42="","",'Form 1'!U42) | AA42: =IF('Form 1'!C42="","",'Form 1'!C42) | AB42: =IF('Form 1'!N42="","",'Form 1'!N42) | AC42: =IF('Form 1'!O42="","",'Form 1'!O42) | AD42: =IF('Form 1'!P42="","",'Form 1'!P42) | AE42: =IF('Form 1'!Q42="","",'Form 1'!Q42) | AR42: {=_xlfn.IFS( AS42="", "", COUNTA(AJ42:AP42)=0, "", COUNTA(AJ42:AP42)=4, "error", OR(AS42="each",AS42="unit"), IF(AP42="","error",AP42), AS42="m", IF(AJ42="","error",AJ42), AS42="m2", IF(OR(AJ42="",AL42=""),"error",AJ42*AL42), AS42="m3", IF(OR(AJ42="",AL42="",AN42=""),"error",AJ42*AL42*AN42), AS42="lump sum", 1 )} | AS42: =IF(AH42="","",_xlfn.XLOOKUP(AH42, Index!X:X, Index!Y:Y, "Not found")) | AX42: =AR42*AT42 | AY42: =AR42 * AT42 * _xlfn.XLOOKUP(AH42, Index!X26:X86, Index!Z26:Z86, 0) | AZ42: =(AX42 + AY42) * _xlfn.XLOOKUP(AH42, Index!X26:X86, Index!AA26:AA86, "") | BA42: =IF(AV42="Market Price", 0, (AX42 + AY42 + AZ42) * _xlfn.XLOOKUP(AH42, Index!X26:X86, Index!AB26:AB86, 0) ) | BB42: =SUM(AY42:BA42) | BG42: =AX42+BB42
...

Sheet Index
A2: Sub-category & type (dropbox) | B2: [drop down] | D2: Asset category / class | E2: [Category / Class] | G2: Decisions | H2: Options | J2: Verification | K2: Options | M2: Methodology | N2: Name | P2: Applicant | Q2: Name | R2: Abv | S2: Day Labour | U2: Treatment | V2: Category | W2: ST | X2: Description | Y2: Unit | Z2: PM | AA2: CONTINGENCY P90 | AB2: ESCALATION
B3: Road - sealed | E3: Public Infrastructure | H3: Yes | K3: Geospatial data | N3: Benchmark | Q3: City of Albury | R3: ALB | V3: Unsealed roads | W3: URT_FGL | X3: Formation Grading - Light | Y3: m | Z3: 0.12 | AA3: 0.28 | AB3: 0.03
B4: Road - concrete | E4: Local Road | H4: No | K4: Visual evidence | N4: Cost Estimation | Q4: Armidale Regional Council | R4: ARM | S4: No | W4: URT_FGM | X4: Formation Grading - Medium | Y4: m | Z4: 0.12 | AA4: 0.28 | AB4: 0.03
B5: Road - gravel | E5: Regional Road | H5: RFI | K5: Maintenance records | N5: Market Price | Q5: Ballina Shire | R5: BAL | S5: Yes | W5: URT_FGH | X5: Formation Grading - Heavy | Y5: m | Z5: 0.12 | AA5: 0.28 | AB5: 0.03
